BEGIN:VCALENDAR
VERSION:2.0
PRODID:-//jEvents 2.0 for Joomla//EN
CALSCALE:GREGORIAN
METHOD:PUBLISH
BEGIN:VTIMEZONE
TZID:Europe/Berlin
END:VTIMEZONE
BEGIN:VEVENT
UID:3442a26d4ed326803eec04ec4db87de4
CATEGORIES:Termine
CREATED:20230312T214634
SUMMARY:Weihnachten!
DESCRIPTION:
DTSTAMP:20260422T013531
DTSTART;TZID=Europe/Berlin;VALUE=DATE:20361224
DTEND;TZID=Europe/Berlin;VALUE=DATE:20361225
SEQUENCE:0
TRANSP:OPAQUE
END:VEVENT
END:VCALENDAR