BEGIN:VCALENDAR
VERSION:2.0
PRODID:-//jEvents 2.0 for Joomla//EN
CALSCALE:GREGORIAN
METHOD:PUBLISH
BEGIN:VTIMEZONE
TZID:Europe/Berlin
END:VTIMEZONE
BEGIN:VEVENT
UID:3442a26d4ed326803eec04ec4db87de4
CATEGORIES:Termine
CREATED:20230312T214634
SUMMARY:Weihnachten!
DESCRIPTION:
DTSTAMP:20260421T222608
DTSTART;TZID=Europe/Berlin;VALUE=DATE:20341224
DTEND;TZID=Europe/Berlin;VALUE=DATE:20341225
SEQUENCE:0
TRANSP:OPAQUE
END:VEVENT
END:VCALENDAR